Workbook

Sheet I-9 Reverification Tracker
A1: I-9 Work Authorization & Reverification Tracker
A2: Track EAD / work-authorization expiry, Supplement B reverification, and status — DATE/STATUS ONLY. No SSN or document numbers. Sample data only — replace with your own. Powered by Remindax (remindax.com) for automated Email, SMS & WhatsApp reminders.
A4: Employee Name | B4: Employee ID (sample) | C4: Hire Date | D4: Work Auth Category | E4: Document Category | F4: Authorization Expiry / Reverify Due | G4: Days Until Due | H4: Status | I4: Supplement B Due | J4: Supplement B Status | K4: EAD Expiry | L4: EAD Status | M4: Department | N4: Location | O4: Notes
A5: SAMPLE — Ava Morales | B5: EMP-1001 | C5: 45000 | D5: Temporary Work Auth | E5: List A | F5: 46408 | G5: =IF(F5="","",F5-TODAY()) | H5: =IF(G5="","",IF(G5<0,"Expired",IF(G5<=30,"Expiring Soon",IF(G5<=90,"Renew Soon","Valid")))) | I5: 46408 | J5: =IF(I5="","",IF(I5-TODAY()<0,"Expired",IF(I5-TODAY()<=30,"Expiring Soon",IF(I5-TODAY()<=90,"Renew Soon","Valid")))) | K5: 46408 | L5: =IF(K5="","",IF(K5-TODAY()<0,"Expired",IF(K5-TODAY()<=30,"Expiring Soon",IF(K5-TODAY()<=90,"Renew Soon","Valid")))) | M5: Engineering | N5: Austin, TX | O5: SAMPLE — Temporary auth healthy; dual clocks aligned
A6: SAMPLE — Noah Patel | B6: EMP-1002 | C6: 45299 | D6: Temporary Work Auth | E6: List A | F6: 46310 | G6: =IF(F6="","",F6-TODAY()) | H6: =IF(G6="","",IF(G6<0,"Expired",IF(G6<=30,"Expiring Soon",IF(G6<=90,"Renew Soon","Valid")))) | I6: 46310 | J6: =IF(I6="","",IF(I6-TODAY()<0,"Expired",IF(I6-TODAY()<=30,"Expiring Soon",IF(I6-TODAY()<=90,"Renew Soon","Valid")))) | K6: 46310 | L6: =IF(K6="","",IF(K6-TODAY()<0,"Expired",IF(K6-TODAY()<=30,"Expiring Soon",IF(K6-TODAY()<=90,"Renew Soon","Valid")))) | M6: Operations | N6: Dallas, TX | O6: SAMPLE — EAD expiring within 30 days; start Supplement B prep
A7: SAMPLE — Sofia Nguyen | B7: EMP-1003 | C7: 44743 | D7: Permanent Resident | E7: List A | G7: =IF(F7="","",F7-TODAY()) | H7: =IF(G7="","",IF(G7<0,"Expired",IF(G7<=30,"Expiring Soon",IF(G7<=90,"Renew Soon","Valid")))) | J7: =IF(I7="","",IF(I7-TODAY()<0,"Expired",IF(I7-TODAY()<=30,"Expiring Soon",IF(I7-TODAY()<=90,"Renew Soon","Valid")))) | L7: =IF(K7="","",IF(K7-TODAY()<0,"Expired",IF(K7-TODAY()<=30,"Expiring Soon",IF(K7-TODAY()<=90,"Renew Soon","Valid")))) | M7: Finance | N7: Remote | O7: SAMPLE — Permanent resident; no temporary reverify clock
A8: SAMPLE — Liam Okafor | B8: EMP-1004 | C8: 45708 | D8: Temporary Work Auth | E8: List C Only | F8: 46283 | G8: =IF(F8="","",F8-TODAY()) | H8: =IF(G8="","",IF(G8<0,"Expired",IF(G8<=30,"Expiring Soon",IF(G8<=90,"Renew Soon","Valid")))) | I8: 46283 | J8: =IF(I8="","",IF(I8-TODAY()<0,"Expired",IF(I8-TODAY()<=30,"Expiring Soon",IF(I8-TODAY()<=90,"Renew Soon","Valid")))) | K8: 46283 | L8: =IF(K8="","",IF(K8-TODAY()<0,"Expired",IF(K8-TODAY()<=30,"Expiring Soon",IF(K8-TODAY()<=90,"Renew Soon","Valid")))) | M8: Warehouse | N8: Houston, TX | O8: SAMPLE — Auth expired window; Supplement B overdue (fictional)
A9: SAMPLE — Maya Chen | B9: EMP-1005 | C9: 45242 | D9: Temporary Work Auth | E9: List A | F9: 46363 | G9: =IF(F9="","",F9-TODAY()) | H9: =IF(G9="","",IF(G9<0,"Expired",IF(G9<=30,"Expiring Soon",IF(G9<=90,"Renew Soon","Valid")))) | I9: 46348 | J9: =IF(I9="","",IF(I9-TODAY()<0,"Expired",IF(I9-TODAY()<=30,"Expiring Soon",IF(I9-TODAY()<=90,"Renew Soon","Valid")))) | K9: 46363 | L9: =IF(K9="","",IF(K9-TODAY()<0,"Expired",IF(K9-TODAY()<=30,"Expiring Soon",IF(K9-TODAY()<=90,"Renew Soon","Valid")))) | M9: Sales | N9: Chicago, IL | O9: SAMPLE — Renew Soon; Supplement B due before card date
A10: SAMPLE — Ethan Brooks | B10: EMP-1006 | C10: 44319 | D10: US Citizen | E10: List B + List C | G10: =IF(F10="","",F10-TODAY()) | H10: =IF(G10="","",IF(G10<0,"Expired",IF(G10<=30,"Expiring Soon",IF(G10<=90,"Renew Soon","Valid")))) | J10: =IF(I10="","",IF(I10-TODAY()<0,"Expired",IF(I10-TODAY()<=30,"Expiring Soon",IF(I10-TODAY()<=90,"Renew Soon","Valid")))) | L10: =IF(K10="","",IF(K10-TODAY()<0,"Expired",IF(K10-TODAY()<=30,"Expiring Soon",IF(K10-TODAY()<=90,"Renew Soon","Valid")))) | M10: Human Resources | N10: Austin, TX | O10: SAMPLE — US Citizen; no EAD / Supplement B cycle
A11: SAMPLE — Isla Rahman | B11: EMP-1007 | C11: 45551 | D11: Temporary Work Auth | E11: List A | F11: 46488 | G11: =IF(F11="","",F11-TODAY()) | H11: =IF(G11="","",IF(G11<0,"Expired",IF(G11<=30,"Expiring Soon",IF(G11<=90,"Renew Soon","Valid")))) | I11: 46488 | J11: =IF(I11="","",IF(I11-TODAY()<0,"Expired",IF(I11-TODAY()<=30,"Expiring Soon",IF(I11-TODAY()<=90,"Renew Soon","Valid")))) | K11: 46306 | L11: =IF(K11="","",IF(K11-TODAY()<0,"Expired",IF(K11-TODAY()<=30,"Expiring Soon",IF(K11-TODAY()<=90,"Renew Soon","Valid")))) | M11: Customer Support | N11: Phoenix, AZ | O11: SAMPLE — EAD card expiring soon; extension status TBD (not legal advice)
A12: SAMPLE — Mateo Silva | B12: EMP-1008 | C12: 44105 | D12: Other | E12: Other | F12: 46333 | G12: =IF(F12="","",F12-TODAY()) | H12: =IF(G12="","",IF(G12<0,"Expired",IF(G12<=30,"Expiring Soon",IF(G12<=90,"Renew Soon","Valid")))) | I12: 46333 | J12: =IF(I12="","",IF(I12-TODAY()<0,"Expired",IF(I12-TODAY()<=30,"Expiring Soon",IF(I12-TODAY()<=90,"Renew Soon","Valid")))) | L12: =IF(K12="","",IF(K12-TODAY()<0,"Expired",IF(K12-TODAY()<=30,"Expiring Soon",IF(K12-TODAY()<=90,"Renew Soon","Valid")))) | M12: Legal | N12: New York, NY | O12: SAMPLE — Other category placeholder; track reverify date only
G13: =IF(F13="","",F13-TODAY()) | H13: =IF(G13="","",IF(G13<0,"Expired",IF(G13<=30,"Expiring Soon",IF(G13<=90,"Renew Soon","Valid")))) | J13: =IF(I13="","",IF(I13-TODAY()<0,"Expired",IF(I13-TODAY()<=30,"Expiring Soon",IF(I13-TODAY()<=90,"Renew Soon","Valid")))) | L13: =IF(K13="","",IF(K13-TODAY()<0,"Expired",IF(K13-TODAY()<=30,"Expiring Soon",IF(K13-TODAY()<=90,"Renew Soon","Valid"))))
G14: =IF(F14="","",F14-TODAY()) | H14: =IF(G14="","",IF(G14<0,"Expired",IF(G14<=30,"Expiring Soon",IF(G14<=90,"Renew Soon","Valid")))) | J14: =IF(I14="","",IF(I14-TODAY()<0,"Expired",IF(I14-TODAY()<=30,"Expiring Soon",IF(I14-TODAY()<=90,"Renew Soon","Valid")))) | L14: =IF(K14="","",IF(K14-TODAY()<0,"Expired",IF(K14-TODAY()<=30,"Expiring Soon",IF(K14-TODAY()<=90,"Renew Soon","Valid"))))
G15: =IF(F15="","",F15-TODAY()) | H15: =IF(G15="","",IF(G15<0,"Expired",IF(G15<=30,"Expiring Soon",IF(G15<=90,"Renew Soon","Valid")))) | J15: =IF(I15="","",IF(I15-TODAY()<0,"Expired",IF(I15-TODAY()<=30,"Expiring Soon",IF(I15-TODAY()<=90,"Renew Soon","Valid")))) | L15: =IF(K15="","",IF(K15-TODAY()<0,"Expired",IF(K15-TODAY()<=30,"Expiring Soon",IF(K15-TODAY()<=90,"Renew Soon","Valid"))))
G16: =IF(F16="","",F16-TODAY()) | H16: =IF(G16="","",IF(G16<0,"Expired",IF(G16<=30,"Expiring Soon",IF(G16<=90,"Renew Soon","Valid")))) | J16: =IF(I16="","",IF(I16-TODAY()<0,"Expired",IF(I16-TODAY()<=30,"Expiring Soon",IF(I16-TODAY()<=90,"Renew Soon","Valid")))) | L16: =IF(K16="","",IF(K16-TODAY()<0,"Expired",IF(K16-TODAY()<=30,"Expiring Soon",IF(K16-TODAY()<=90,"Renew Soon","Valid"))))
G17: =IF(F17="","",F17-TODAY()) | H17: =IF(G17="","",IF(G17<0,"Expired",IF(G17<=30,"Expiring Soon",IF(G17<=90,"Renew Soon","Valid")))) | J17: =IF(I17="","",IF(I17-TODAY()<0,"Expired",IF(I17-TODAY()<=30,"Expiring Soon",IF(I17-TODAY()<=90,"Renew Soon","Valid")))) | L17: =IF(K17="","",IF(K17-TODAY()<0,"Expired",IF(K17-TODAY()<=30,"Expiring Soon",IF(K17-TODAY()<=90,"Renew Soon","Valid"))))
G18: =IF(F18="","",F18-TODAY()) | H18: =IF(G18="","",IF(G18<0,"Expired",IF(G18<=30,"Expiring Soon",IF(G18<=90,"Renew Soon","Valid")))) | J18: =IF(I18="","",IF(I18-TODAY()<0,"Expired",IF(I18-TODAY()<=30,"Expiring Soon",IF(I18-TODAY()<=90,"Renew Soon","Valid")))) | L18: =IF(K18="","",IF(K18-TODAY()<0,"Expired",IF(K18-TODAY()<=30,"Expiring Soon",IF(K18-TODAY()<=90,"Renew Soon","Valid"))))
G19: =IF(F19="","",F19-TODAY()) | H19: =IF(G19="","",IF(G19<0,"Expired",IF(G19<=30,"Expiring Soon",IF(G19<=90,"Renew Soon","Valid")))) | J19: =IF(I19="","",IF(I19-TODAY()<0,"Expired",IF(I19-TODAY()<=30,"Expiring Soon",IF(I19-TODAY()<=90,"Renew Soon","Valid")))) | L19: =IF(K19="","",IF(K19-TODAY()<0,"Expired",IF(K19-TODAY()<=30,"Expiring Soon",IF(K19-TODAY()<=90,"Renew Soon","Valid"))))
G20: =IF(F20="","",F20-TODAY()) | H20: =IF(G20="","",IF(G20<0,"Expired",IF(G20<=30,"Expiring Soon",IF(G20<=90,"Renew Soon","Valid")))) | J20: =IF(I20="","",IF(I20-TODAY()<0,"Expired",IF(I20-TODAY()<=30,"Expiring Soon",IF(I20-TODAY()<=90,"Renew Soon","Valid")))) | L20: =IF(K20="","",IF(K20-TODAY()<0,"Expired",IF(K20-TODAY()<=30,"Expiring Soon",IF(K20-TODAY()<=90,"Renew Soon","Valid"))))
G21: =IF(F21="","",F21-TODAY()) | H21: =IF(G21="","",IF(G21<0,"Expired",IF(G21<=30,"Expiring Soon",IF(G21<=90,"Renew Soon","Valid")))) | J21: =IF(I21="","",IF(I21-TODAY()<0,"Expired",IF(I21-TODAY()<=30,"Expiring Soon",IF(I21-TODAY()<=90,"Renew Soon","Valid")))) | L21: =IF(K21="","",IF(K21-TODAY()<0,"Expired",IF(K21-TODAY()<=30,"Expiring Soon",IF(K21-TODAY()<=90,"Renew Soon","Valid"))))
G22: =IF(F22="","",F22-TODAY()) | H22: =IF(G22="","",IF(G22<0,"Expired",IF(G22<=30,"Expiring Soon",IF(G22<=90,"Renew Soon","Valid")))) | J22: =IF(I22="","",IF(I22-TODAY()<0,"Expired",IF(I22-TODAY()<=30,"Expiring Soon",IF(I22-TODAY()<=90,"Renew Soon","Valid")))) | L22: =IF(K22="","",IF(K22-TODAY()<0,"Expired",IF(K22-TODAY()<=30,"Expiring Soon",IF(K22-TODAY()<=90,"Renew Soon","Valid"))))
G23: =IF(F23="","",F23-TODAY()) | H23: =IF(G23="","",IF(G23<0,"Expired",IF(G23<=30,"Expiring Soon",IF(G23<=90,"Renew Soon","Valid")))) | J23: =IF(I23="","",IF(I23-TODAY()<0,"Expired",IF(I23-TODAY()<=30,"Expiring Soon",IF(I23-TODAY()<=90,"Renew Soon","Valid")))) | L23: =IF(K23="","",IF(K23-TODAY()<0,"Expired",IF(K23-TODAY()<=30,"Expiring Soon",IF(K23-TODAY()<=90,"Renew Soon","Valid"))))
G24: =IF(F24="","",F24-TODAY()) | H24: =IF(G24="","",IF(G24<0,"Expired",IF(G24<=30,"Expiring Soon",IF(G24<=90,"Renew Soon","Valid")))) | J24: =IF(I24="","",IF(I24-TODAY()<0,"Expired",IF(I24-TODAY()<=30,"Expiring Soon",IF(I24-TODAY()<=90,"Renew Soon","Valid")))) | L24: =IF(K24="","",IF(K24-TODAY()<0,"Expired",IF(K24-TODAY()<=30,"Expiring Soon",IF(K24-TODAY()<=90,"Renew Soon","Valid"))))
... G204: =IF(F204="","",F204-TODAY()) | H204: =IF(G204="","",IF(G204<0,"Expired",IF(G204<=30,"Expiring Soon",IF(G204<=90,"Renew Soon","Valid")))) | J204: =IF(I204="","",IF(I204-TODAY()<0,"Expired",IF(I204-TODAY()<=30,"Expiring Soon",IF(I204-TODAY()<=90,"Renew Soon","Valid")))) | L204: =IF(K204="","",IF(K204-TODAY()<0,"Expired",IF(K204-TODAY()<=30,"Expiring Soon",IF(K204-TODAY()<=90,"Renew Soon","Valid"))))

Sheet Dashboard
A1: I-9 Work Authorization Dashboard
A2: Auto-calculated from I-9 Reverification Tracker sheet (sample rows marked SAMPLE — replace with your roster). Date/status tracking only — not legal advice.
A4: Roster Overview
A5: Total Employees Tracked | C5: =COUNTA('I-9 Reverification Tracker'!A5:A204)
A6: Employees with Expired Authorization | C6: =COUNTIF('I-9 Reverification Tracker'!H5:H204,"Expired")
A8: Primary Authorization Status
A9: Valid | C9: =COUNTIF('I-9 Reverification Tracker'!H5:H204,"Valid")
A10: Renew Soon (≤90d) | C10: =COUNTIF('I-9 Reverification Tracker'!H5:H204,"Renew Soon")
A11: Expiring Soon (≤30d) | C11: =COUNTIF('I-9 Reverification Tracker'!H5:H204,"Expiring Soon")
A12: Expired | C12: =COUNTIF('I-9 Reverification Tracker'!H5:H204,"Expired")
A14: Supplement B & EAD KPIs
A15: Supplement B Overdue (Expired) | C15: =COUNTIF('I-9 Reverification Tracker'!J5:J204,"Expired")
A16: Supplement B Expiring Soon (≤30d) | C16: =COUNTIF('I-9 Reverification Tracker'!J5:J204,"Expiring Soon")
A17: EAD Overdue (Expired) | C17: =COUNTIF('I-9 Reverification Tracker'!L5:L204,"Expired")
A18: EAD Expiring Soon (≤30d) | C18: =COUNTIF('I-9 Reverification Tracker'!L5:L204,"Expiring Soon")
A19: EAD Due Within 30 Days (by date) | C19: =COUNTIFS('I-9 Reverification Tracker'!K5:K204,">="&TODAY(),'I-9 Reverification Tracker'!K5:K204,"<="&TODAY()+30)
A21: Breakdown by Work Auth Category
A22: Work Auth Category | B22: Count | C22: Valid | D22: Action Needed*
A23: US Citizen | B23: =COUNTIF('I-9 Reverification Tracker'!D5:D204,A23) | C23: =COUNTIFS('I-9 Reverification Tracker'!D5:D204,A23,'I-9 Reverification Tracker'!H5:H204,"Valid") | D23: =COUNTIFS('I-9 Reverification Tracker'!D5:D204,A23,'I-9 Reverification Tracker'!H5:H204,"Expired")+COUNTIFS('I-9 Reverification Tracker'!D5:D204,A23,'I-9 Reverification Tracker'!H5:H204,"Expiring Soon")+COUNTIFS('I-9 Reverification Tracker'!D5:D204,A23,'I-9 Reverification Tracker'!H5:H204,"Renew Soon")
A24: Permanent Resident | B24: =COUNTIF('I-9 Reverification Tracker'!D5:D204,A24) | C24: =COUNTIFS('I-9 Reverification Tracker'!D5:D204,A24,'I-9 Reverification Tracker'!H5:H204,"Valid") | D24: =COUNTIFS('I-9 Reverification Tracker'!D5:D204,A24,'I-9 Reverification Tracker'!H5:H204,"Expired")+COUNTIFS('I-9 Reverification Tracker'!D5:D204,A24,'I-9 Reverification Tracker'!H5:H204,"Expiring Soon")+COUNTIFS('I-9 Reverification Tracker'!D5:D204,A24,'I-9 Reverification Tracker'!H5:H204,"Renew Soon")
A25: Temporary Work Auth | B25: =COUNTIF('I-9 Reverification Tracker'!D5:D204,A25) | C25: =COUNTIFS('I-9 Reverification Tracker'!D5:D204,A25,'I-9 Reverification Tracker'!H5:H204,"Valid") | D25: =COUNTIFS('I-9 Reverification Tracker'!D5:D204,A25,'I-9 Reverification Tracker'!H5:H204,"Expired")+COUNTIFS('I-9 Reverification Tracker'!D5:D204,A25,'I-9 Reverification Tracker'!H5:H204,"Expiring Soon")+COUNTIFS('I-9 Reverification Tracker'!D5:D204,A25,'I-9 Reverification Tracker'!H5:H204,"Renew Soon")
A26: Other | B26: =COUNTIF('I-9 Reverification Tracker'!D5:D204,A26) | C26: =COUNTIFS('I-9 Reverification Tracker'!D5:D204,A26,'I-9 Reverification Tracker'!H5:H204,"Valid") | D26: =COUNTIFS('I-9 Reverification Tracker'!D5:D204,A26,'I-9 Reverification Tracker'!H5:H204,"Expired")+COUNTIFS('I-9 Reverification Tracker'!D5:D204,A26,'I-9 Reverification Tracker'!H5:H204,"Expiring Soon")+COUNTIFS('I-9 Reverification Tracker'!D5:D204,A26,'I-9 Reverification Tracker'!H5:H204,"Renew Soon")
A28: * Action Needed = Expired + Expiring Soon + Renew Soon
A30: Overall Compliance Score
A31: Overall Work-Auth Compliance Score | C31: =IFERROR(COUNTIF('I-9 Reverification Tracker'!H5:H204,"Valid")/COUNTA('I-9 Reverification Tracker'!A5:A204),0)
A33: Need automatic Email, SMS and WhatsApp reminders? Try Remindax — https://www.remindax.com/
A34: This template tracks dates and status only. It does not complete Form I-9, run E-Verify, or determine work-authorization eligibility.

Sheet Lookup
A1: Work Auth Category | B1: Document Category | C1: Status Labels | D1: Department
A2: US Citizen | B2: List A | C2: Valid | D2: Human Resources
A3: Permanent Resident | B3: List B + List C | C3: Renew Soon | D3: Operations
A4: Temporary Work Auth | B4: List C Only | C4: Expiring Soon | D4: Finance
A5: Other | B5: Other | C5: Expired | D5: Engineering
D6: Sales
D7: Warehouse
D8: Customer Support
D9: Legal
D10: Marketing
D11: IT
A14: Notes (not legal advice)
A15: Categories are high-level labels for tracking dates only. Do not store SSN, passport, or document numbers. Confirm current Form I-9 / EAD rules with counsel or USCIS.
